BEGIN:VCALENDAR
VERSION:2.0
PRODID:-//Sabre//Sabre VObject 4.5.8//EN
CALSCALE:GREGORIAN
BEGIN:VEVENT
UID:sabre-vobject-f7e6195b-67bb-43a4-a180-f58fb99d4550
DTSTAMP:20260422T064758Z
SUMMARY:„Es war einmal….“ - Frau Anne Wörthner erzählt Märchen
DESCRIPTION:https://rain.de/es-war-einmal-frau-anne-woerthner-erzaehlt-maer
 chen_id9811
DTSTART;TZID=Europe/Berlin:20250114T160000
DTEND;TZID=Europe/Berlin:20250114T170000
LOCATION:Stadtbücherei Rain\, Hauptstraße 1 ("Treffpunkt am Bayertor")\, 
 86641 Rain
END:VEVENT
END:VCALENDAR
