BEGIN:VCALENDAR
VERSION:2.0
PRODID:-//Sabre//Sabre VObject 4.5.8//EN
CALSCALE:GREGORIAN
BEGIN:VEVENT
UID:sabre-vobject-92cebf40-e773-4fd9-aaba-04f04a31f529
DTSTAMP:20260420T215808Z
SUMMARY:Kostenfreier Vortrag Vorsorgevollmacht\, Patientenverfügung\, Betr
 euungsverfügung
DESCRIPTION:https://rain.de/kostenfreier-vortrag-vorsorgevollmacht-patiente
 nverfuegung-betreuungsverfuegung_id62776
DTSTART;TZID=Europe/Berlin:20260421T190000
DTEND;TZID=Europe/Berlin:20260421T203000
LOCATION:Schlosssaal im kurfürstlichen Schloss\, Schlossstraße 16\, 86641
  Rain
END:VEVENT
END:VCALENDAR
