BEGIN:VCALENDAR
VERSION:2.0
PRODID:-//Sabre//Sabre VObject 4.5.8//EN
CALSCALE:GREGORIAN
BEGIN:VEVENT
UID:sabre-vobject-c1dc2cab-3671-4858-97f9-2307cb3a8ee5
DTSTAMP:20260422T015911Z
SUMMARY:Infoveranstaltung zum Reparaturcafé in Rain
DESCRIPTION:https://rain.de/infoveranstaltung-zum-reparaturcafe-in-rain_id6
 2741
DTSTART;TZID=Europe/Berlin:20260324T190000
DTEND;TZID=Europe/Berlin:20260324T203000
LOCATION:Dreifachturnhalle - Foyer\, Fasanenweg 2\, 86641 Rain
END:VEVENT
END:VCALENDAR
