BEGIN:VCALENDAR
VERSION:2.0
PRODID:-//Sabre//Sabre VObject 4.5.8//EN
CALSCALE:GREGORIAN
BEGIN:VEVENT
UID:sabre-vobject-db0b9f4f-f1ef-4a58-b1d9-99a2b8f46bd6
DTSTAMP:20260422T055130Z
SUMMARY:BN Flursäuberung
DESCRIPTION:https://rain.de/bn-flursaeuberung_id62736
DTSTART;TZID=Europe/Berlin:20260327T143000
DTEND;TZID=Europe/Berlin:20260327T173000
LOCATION:Stadtgebiet Rain\, Hauptstraße 60\, 86641 Rain
END:VEVENT
END:VCALENDAR
