BEGIN:VCALENDAR
VERSION:2.0
PRODID:-//Sabre//Sabre VObject 4.5.8//EN
CALSCALE:GREGORIAN
BEGIN:VEVENT
UID:sabre-vobject-a3176729-2236-4e07-aeb3-908d402cd0e7
DTSTAMP:20260422T074750Z
SUMMARY:Preisschafkopfen im Gasthaus Braun
DESCRIPTION:https://rain.de/preisschafkopfen-im-gasthaus-braun_id62679
DTSTART;TZID=Europe/Berlin:20260328T190000
DTEND;TZID=Europe/Berlin:20260328T223000
LOCATION:Gasthaus Braun\, Dorfstraße 27 \, 86641 Rain-Unterpeiching
END:VEVENT
END:VCALENDAR
