BEGIN:VCALENDAR
VERSION:2.0
PRODID:-//Sabre//Sabre VObject 4.5.8//EN
CALSCALE:GREGORIAN
BEGIN:VEVENT
UID:sabre-vobject-84471754-fe8c-4c82-9ef7-24abb33fc91b
DTSTAMP:20260421T215011Z
SUMMARY:Ordentliche Mitgliederversammlung
DESCRIPTION:https://rain.de/ordentliche-mitgliederversammlung_id51173
DTSTART;TZID=Europe/Berlin:20260320T193000
DTEND;TZID=Europe/Berlin:20260320T210000
LOCATION:Gasthaus & Hotel "Zum Boarn"\, Hauptstraße 26\, 86641 Rain
END:VEVENT
END:VCALENDAR
