BEGIN:VCALENDAR
VERSION:2.0
PRODID:-//Sabre//Sabre VObject 4.5.8//EN
CALSCALE:GREGORIAN
BEGIN:VEVENT
UID:sabre-vobject-f9e5cddf-3dbb-427c-bfc8-a7e0e2a8e665
DTSTAMP:20260422T000017Z
SUMMARY:Heimatabend des Volks- und Trachtenverein Rain D´Roaner e.V
DESCRIPTION:https://rain.de/heimatabend-des-volks-und-trachtenverein-rain-d
 -roaner-e-v_id51169
DTSTART;TZID=Europe/Berlin:20260321T193000
DTEND;TZID=Europe/Berlin:20260321T230000
LOCATION:Aula im Schulzentrum\, Kraftwerkstr. 10\, 86641 Rain
END:VEVENT
END:VCALENDAR
