BEGIN:VCALENDAR
VERSION:2.0
PRODID:-//Sabre//Sabre VObject 4.5.8//EN
CALSCALE:GREGORIAN
BEGIN:VEVENT
UID:sabre-vobject-9fbda3e8-cc0a-47ac-abf6-1dff92aa27d4
DTSTAMP:20260423T122341Z
SUMMARY:Wochenmarkt
DESCRIPTION:https://rain.de/wochenmarkt_id51166
DTSTART;TZID=Europe/Berlin:20290323T070000
DTEND;TZID=Europe/Berlin:20290323T130000
LOCATION:Tilly-Denkmal\, Hauptstraße 50\, 86641 Rain
END:VEVENT
END:VCALENDAR
