BEGIN:VCALENDAR
VERSION:2.0
PRODID:-//Sabre//Sabre VObject 4.5.8//EN
CALSCALE:GREGORIAN
BEGIN:VEVENT
UID:sabre-vobject-ac2a207d-1a64-4648-af89-5e5d8256b50c
DTSTAMP:20260423T104229Z
SUMMARY:Wochenmarkt
DESCRIPTION:https://rain.de/wochenmarkt_id51165
DTSTART;TZID=Europe/Berlin:20290316T070000
DTEND;TZID=Europe/Berlin:20290316T130000
LOCATION:Tilly-Denkmal\, Hauptstraße 50\, 86641 Rain
END:VEVENT
END:VCALENDAR
