BEGIN:VCALENDAR
VERSION:2.0
PRODID:-//Sabre//Sabre VObject 4.5.8//EN
CALSCALE:GREGORIAN
BEGIN:VEVENT
UID:sabre-vobject-bd228bb4-7eff-40f2-9da2-b707f2f6fe6f
DTSTAMP:20260423T085656Z
SUMMARY:Wochenmarkt
DESCRIPTION:https://rain.de/wochenmarkt_id51164
DTSTART;TZID=Europe/Berlin:20290309T070000
DTEND;TZID=Europe/Berlin:20290309T130000
LOCATION:Tilly-Denkmal\, Hauptstraße 50\, 86641 Rain
END:VEVENT
END:VCALENDAR
