BEGIN:VCALENDAR
VERSION:2.0
PRODID:-//Sabre//Sabre VObject 4.5.8//EN
CALSCALE:GREGORIAN
BEGIN:VEVENT
UID:sabre-vobject-c8680dee-1e7c-4960-b2fe-0ae363a4efd3
DTSTAMP:20260423T035605Z
SUMMARY:Wochenmarkt
DESCRIPTION:https://rain.de/wochenmarkt_id51161
DTSTART;TZID=Europe/Berlin:20290216T070000
DTEND;TZID=Europe/Berlin:20290216T130000
LOCATION:Tilly-Denkmal\, Hauptstraße 50\, 86641 Rain
END:VEVENT
END:VCALENDAR
