BEGIN:VCALENDAR
VERSION:2.0
PRODID:-//Sabre//Sabre VObject 4.5.8//EN
CALSCALE:GREGORIAN
BEGIN:VEVENT
UID:sabre-vobject-42385bd0-0c81-4b49-8056-4d78cf62e8c9
DTSTAMP:20260423T001855Z
SUMMARY:Wochenmarkt
DESCRIPTION:https://rain.de/wochenmarkt_id51159
DTSTART;TZID=Europe/Berlin:20290202T070000
DTEND;TZID=Europe/Berlin:20290202T130000
LOCATION:Tilly-Denkmal\, Hauptstraße 50\, 86641 Rain
END:VEVENT
END:VCALENDAR
