BEGIN:VCALENDAR
VERSION:2.0
PRODID:-//Sabre//Sabre VObject 4.5.8//EN
CALSCALE:GREGORIAN
BEGIN:VEVENT
UID:sabre-vobject-64e403f6-b418-440a-abe9-f3a3ea6eac7b
DTSTAMP:20260422T223641Z
SUMMARY:Wochenmarkt
DESCRIPTION:https://rain.de/wochenmarkt_id51158
DTSTART;TZID=Europe/Berlin:20290126T070000
DTEND;TZID=Europe/Berlin:20290126T130000
LOCATION:Tilly-Denkmal\, Hauptstraße 50\, 86641 Rain
END:VEVENT
END:VCALENDAR
