BEGIN:VCALENDAR
VERSION:2.0
PRODID:-//Sabre//Sabre VObject 4.5.8//EN
CALSCALE:GREGORIAN
BEGIN:VEVENT
UID:sabre-vobject-a641217d-9a69-4917-90f4-ebee79abb149
DTSTAMP:20260422T193211Z
SUMMARY:Wochenmarkt
DESCRIPTION:https://rain.de/wochenmarkt_id51156
DTSTART;TZID=Europe/Berlin:20290112T070000
DTEND;TZID=Europe/Berlin:20290112T130000
LOCATION:Tilly-Denkmal\, Hauptstraße 50\, 86641 Rain
END:VEVENT
END:VCALENDAR
