BEGIN:VCALENDAR
VERSION:2.0
PRODID:-//Sabre//Sabre VObject 4.5.8//EN
CALSCALE:GREGORIAN
BEGIN:VEVENT
UID:sabre-vobject-93fc2598-8e8e-46fd-8640-0de8a5d92f3d
DTSTAMP:20260422T180214Z
SUMMARY:Wochenmarkt
DESCRIPTION:https://rain.de/wochenmarkt_id51155
DTSTART;TZID=Europe/Berlin:20290105T070000
DTEND;TZID=Europe/Berlin:20290105T130000
LOCATION:Tilly-Denkmal\, Hauptstraße 50\, 86641 Rain
END:VEVENT
END:VCALENDAR
