BEGIN:VCALENDAR
VERSION:2.0
PRODID:-//Sabre//Sabre VObject 4.5.8//EN
CALSCALE:GREGORIAN
BEGIN:VEVENT
UID:sabre-vobject-0d591e19-35a9-4637-ad55-29edfe7d2b2e
DTSTAMP:20260422T132302Z
SUMMARY:Wochenmarkt
DESCRIPTION:https://rain.de/wochenmarkt_id51152
DTSTART;TZID=Europe/Berlin:20281215T070000
DTEND;TZID=Europe/Berlin:20281215T130000
LOCATION:Tilly-Denkmal\, Hauptstraße 50\, 86641 Rain
END:VEVENT
END:VCALENDAR
