BEGIN:VCALENDAR
VERSION:2.0
PRODID:-//Sabre//Sabre VObject 4.5.8//EN
CALSCALE:GREGORIAN
BEGIN:VEVENT
UID:sabre-vobject-70f5bbb9-2170-46a7-8b8b-8b403c11ecd4
DTSTAMP:20260422T083348Z
SUMMARY:Wochenmarkt
DESCRIPTION:https://rain.de/wochenmarkt_id51149
DTSTART;TZID=Europe/Berlin:20281124T070000
DTEND;TZID=Europe/Berlin:20281124T130000
LOCATION:Tilly-Denkmal\, Hauptstraße 50\, 86641 Rain
END:VEVENT
END:VCALENDAR
