BEGIN:VCALENDAR
VERSION:2.0
PRODID:-//Sabre//Sabre VObject 4.5.8//EN
CALSCALE:GREGORIAN
BEGIN:VEVENT
UID:sabre-vobject-b52ab5d1-edcc-45da-b765-611857539c88
DTSTAMP:20260422T031633Z
SUMMARY:Wochenmarkt
DESCRIPTION:https://rain.de/wochenmarkt_id51147
DTSTART;TZID=Europe/Berlin:20281110T070000
DTEND;TZID=Europe/Berlin:20281110T130000
LOCATION:Tilly-Denkmal\, Hauptstraße 50\, 86641 Rain
END:VEVENT
END:VCALENDAR
