BEGIN:VCALENDAR
VERSION:2.0
PRODID:-//Sabre//Sabre VObject 4.5.8//EN
CALSCALE:GREGORIAN
BEGIN:VEVENT
UID:sabre-vobject-5e344107-37ef-4927-b974-3a6aaca7ae0c
DTSTAMP:20260422T012736Z
SUMMARY:Wochenmarkt
DESCRIPTION:https://rain.de/wochenmarkt_id51146
DTSTART;TZID=Europe/Berlin:20281103T070000
DTEND;TZID=Europe/Berlin:20281103T130000
LOCATION:Tilly-Denkmal\, Hauptstraße 50\, 86641 Rain
END:VEVENT
END:VCALENDAR
