BEGIN:VCALENDAR
VERSION:2.0
PRODID:-//Sabre//Sabre VObject 4.5.8//EN
CALSCALE:GREGORIAN
BEGIN:VEVENT
UID:sabre-vobject-40f27030-c5f9-4b0a-a847-252d2bf27b08
DTSTAMP:20260421T200516Z
SUMMARY:Wochenmarkt
DESCRIPTION:https://rain.de/wochenmarkt_id51143
DTSTART;TZID=Europe/Berlin:20281013T070000
DTEND;TZID=Europe/Berlin:20281013T130000
LOCATION:Tilly-Denkmal\, Hauptstraße 50\, 86641 Rain
END:VEVENT
END:VCALENDAR
