BEGIN:VCALENDAR
VERSION:2.0
PRODID:-//Sabre//Sabre VObject 4.5.8//EN
CALSCALE:GREGORIAN
BEGIN:VEVENT
UID:sabre-vobject-9eec8edb-04c4-426b-9920-1dbd09e3b3b1
DTSTAMP:20260421T182710Z
SUMMARY:Wochenmarkt
DESCRIPTION:https://rain.de/wochenmarkt_id51142
DTSTART;TZID=Europe/Berlin:20281006T070000
DTEND;TZID=Europe/Berlin:20281006T130000
LOCATION:Tilly-Denkmal\, Hauptstraße 50\, 86641 Rain
END:VEVENT
END:VCALENDAR
