BEGIN:VCALENDAR
VERSION:2.0
PRODID:-//Sabre//Sabre VObject 4.5.8//EN
CALSCALE:GREGORIAN
BEGIN:VEVENT
UID:sabre-vobject-4d5418ad-30ba-47c7-986e-4ea32602387d
DTSTAMP:20260421T164637Z
SUMMARY:Wochenmarkt
DESCRIPTION:https://rain.de/wochenmarkt_id51141
DTSTART;TZID=Europe/Berlin:20280929T070000
DTEND;TZID=Europe/Berlin:20280929T130000
LOCATION:Tilly-Denkmal\, Hauptstraße 50\, 86641 Rain
END:VEVENT
END:VCALENDAR
