BEGIN:VCALENDAR
VERSION:2.0
PRODID:-//Sabre//Sabre VObject 4.5.8//EN
CALSCALE:GREGORIAN
BEGIN:VEVENT
UID:sabre-vobject-b00deb1a-da67-44c9-9438-ec704bcf07c4
DTSTAMP:20260421T151729Z
SUMMARY:Wochenmarkt
DESCRIPTION:https://rain.de/wochenmarkt_id51140
DTSTART;TZID=Europe/Berlin:20280922T070000
DTEND;TZID=Europe/Berlin:20280922T130000
LOCATION:Tilly-Denkmal\, Hauptstraße 50\, 86641 Rain
END:VEVENT
END:VCALENDAR
