BEGIN:VCALENDAR
VERSION:2.0
PRODID:-//Sabre//Sabre VObject 4.5.8//EN
CALSCALE:GREGORIAN
BEGIN:VEVENT
UID:sabre-vobject-173d5983-319e-43fd-93c7-e644afe23025
DTSTAMP:20260421T114723Z
SUMMARY:Wochenmarkt
DESCRIPTION:https://rain.de/wochenmarkt_id51138
DTSTART;TZID=Europe/Berlin:20280908T070000
DTEND;TZID=Europe/Berlin:20280908T130000
LOCATION:Tilly-Denkmal\, Hauptstraße 50\, 86641 Rain
END:VEVENT
END:VCALENDAR
