BEGIN:VCALENDAR
VERSION:2.0
PRODID:-//Sabre//Sabre VObject 4.5.8//EN
CALSCALE:GREGORIAN
BEGIN:VEVENT
UID:sabre-vobject-32dbd818-4957-41f3-bb97-7f6a7b9bda0d
DTSTAMP:20260421T100554Z
SUMMARY:Wochenmarkt
DESCRIPTION:https://rain.de/wochenmarkt_id51137
DTSTART;TZID=Europe/Berlin:20280901T070000
DTEND;TZID=Europe/Berlin:20280901T130000
LOCATION:Tilly-Denkmal\, Hauptstraße 50\, 86641 Rain
END:VEVENT
END:VCALENDAR
