BEGIN:VCALENDAR
VERSION:2.0
PRODID:-//Sabre//Sabre VObject 4.5.8//EN
CALSCALE:GREGORIAN
BEGIN:VEVENT
UID:sabre-vobject-346e65c3-7b0f-41c7-ad0b-dac3fd4c098d
DTSTAMP:20260421T082456Z
SUMMARY:Wochenmarkt
DESCRIPTION:https://rain.de/wochenmarkt_id51136
DTSTART;TZID=Europe/Berlin:20280825T070000
DTEND;TZID=Europe/Berlin:20280825T130000
LOCATION:Tilly-Denkmal\, Hauptstraße 50\, 86641 Rain
END:VEVENT
END:VCALENDAR
