BEGIN:VCALENDAR
VERSION:2.0
PRODID:-//Sabre//Sabre VObject 4.5.8//EN
CALSCALE:GREGORIAN
BEGIN:VEVENT
UID:sabre-vobject-736e5370-ab7c-4914-9970-923296742bde
DTSTAMP:20260421T200519Z
SUMMARY:Geistige Unterstützung - Komödie in 3 Akten
DESCRIPTION:https://rain.de/geistige-unterstuetzung-komoedie-in-3-akten_id4
 9239
DTSTART;TZID=Europe/Berlin:20260320T183000
DTEND;TZID=Europe/Berlin:20260320T220000
LOCATION:Theater Oberpeiching\, Lechstraße 23\, 86641 Rain
END:VEVENT
END:VCALENDAR
