BEGIN:VCALENDAR
VERSION:2.0
PRODID:-//Sabre//Sabre VObject 4.5.8//EN
CALSCALE:GREGORIAN
BEGIN:VEVENT
UID:sabre-vobject-261afb99-53fa-4b56-b49d-7fa93f59da56
DTSTAMP:20260421T164637Z
SUMMARY:Stimmungsvoller Indoor-Weihnachtsmarkt im Dehner Blumenpark
DESCRIPTION:https://rain.de/stimmungsvoller-indoor-weihnachtsmarkt-im-dehne
 r-blumenpark_id44967
DTSTART;TZID=Europe/Berlin:20251008T000000
DTEND;TZID=Europe/Berlin:20260105T000000
LOCATION:Dehner Blumenpark\, Donauwörther Straße 3-5\, 86641 Rain
END:VEVENT
END:VCALENDAR
