BEGIN:VCALENDAR
VERSION:2.0
PRODID:-//Sabre//Sabre VObject 4.5.8//EN
CALSCALE:GREGORIAN
BEGIN:VEVENT
UID:sabre-vobject-a33cba0b-ed92-4c65-85fd-1980f6ebdd65
DTSTAMP:20260422T035257Z
SUMMARY:Jahreshauptversammlung
DESCRIPTION:https://rain.de/jahreshauptversammlung_id44450
DTSTART;TZID=Europe/Berlin:20260326T190000
DTEND;TZID=Europe/Berlin:20260326T213000
LOCATION:Schlosssaal im kurfürstlichen Schloss\, Schlossstraße 16\, 86641
  Rain
END:VEVENT
END:VCALENDAR
