BEGIN:VCALENDAR
VERSION:2.0
PRODID:-//Sabre//Sabre VObject 4.5.8//EN
CALSCALE:GREGORIAN
BEGIN:VEVENT
UID:sabre-vobject-a4236d5e-8697-4361-934f-4b9e7b50baca
DTSTAMP:20260421T200438Z
SUMMARY:STADTRADELN 2025
DESCRIPTION:https://rain.de/stadtradeln-2025_id43750
DTSTART;TZID=Europe/Berlin:20250706T000000
DTEND;TZID=Europe/Berlin:20250726T000000
END:VEVENT
END:VCALENDAR
