BEGIN:VCALENDAR
VERSION:2.0
PRODID:-//Sabre//Sabre VObject 4.5.8//EN
CALSCALE:GREGORIAN
BEGIN:VEVENT
UID:sabre-vobject-aef2dd2c-cc6e-4b06-b4de-1ac74f38283b
DTSTAMP:20260422T012737Z
SUMMARY:Flohmarkt Rain
DESCRIPTION:https://rain.de/flohmarkt-rain_id42576
DTSTART;TZID=Europe/Berlin:20250406T070000
DTEND;TZID=Europe/Berlin:20250406T130000
LOCATION:Die Halle\, Münchner Straße 42\, 86641 Rain
END:VEVENT
END:VCALENDAR
