BEGIN:VCALENDAR
VERSION:2.0
PRODID:-//Sabre//Sabre VObject 4.5.8//EN
CALSCALE:GREGORIAN
BEGIN:VEVENT
UID:sabre-vobject-caff948b-151a-4a64-b93c-4b4c4623c50d
DTSTAMP:20260421T233950Z
SUMMARY:Boule im Stadtpark 
DESCRIPTION:https://rain.de/boule-im-stadtpark_id42460
DTSTART;TZID=Europe/Berlin:20250414T160000
DTEND;TZID=Europe/Berlin:20250414T180000
LOCATION:Boule-Bahn im Staudengarten des Stadtparks\, \, 86641 Rain
END:VEVENT
END:VCALENDAR
