BEGIN:VCALENDAR
VERSION:2.0
PRODID:-//Sabre//Sabre VObject 4.5.8//EN
CALSCALE:GREGORIAN
BEGIN:VEVENT
UID:sabre-vobject-10270336-b0f4-4929-ba48-3633749fefeb
DTSTAMP:20260422T031634Z
SUMMARY:Bilderbuchkino mit Frau Michaela Zach
DESCRIPTION:https://rain.de/bilderbuchkino-mit-frau-michaela-zach_id41114
DTSTART;TZID=Europe/Berlin:20250128T160000
DURATION:PT30M
LOCATION:Bayertor - Saal 2\, \,  
END:VEVENT
END:VCALENDAR
