BEGIN:VCALENDAR
VERSION:2.0
PRODID:-//Sabre//Sabre VObject 4.5.8//EN
CALSCALE:GREGORIAN
BEGIN:VEVENT
UID:sabre-vobject-79080fd9-f115-45b3-8a95-1487d0b3ea53
DTSTAMP:20260422T050034Z
SUMMARY:Vorlesestunde mit Frau Gabriele Ecker für Kinder von 3-5 Jahren
DESCRIPTION:https://rain.de/vorlesestunde-mit-frau-gabriele-ecker-fuer-kind
 er-von-3-5-jahren_id41113
DTSTART;TZID=Europe/Berlin:20250121T160000
DTEND;TZID=Europe/Berlin:20250121T170000
LOCATION:Stadtbücherei Rain\, Hauptstraße 1 ("Treffpunkt am Bayertor")\, 
 86641 Rain
END:VEVENT
END:VCALENDAR
