BEGIN:VCALENDAR
VERSION:2.0
PRODID:-//Sabre//Sabre VObject 4.5.8//EN
CALSCALE:GREGORIAN
BEGIN:VEVENT
UID:sabre-vobject-0c664449-b119-45fc-ae7f-3ece5970c559
DTSTAMP:20260422T103121Z
SUMMARY:„Vom Federkiel zum Computer“ – vom Schreiben und Büro. 
DESCRIPTION:https://rain.de/vom-federkiel-zum-computer-vom-schreiben-und-bu
 ero_id40982
DTSTART;TZID=Europe/Berlin:20240928T170000
DTEND;TZID=Europe/Berlin:20240928T235900
LOCATION:Heimatmuseum\, Oberes Eck 3\, 86641 Rain
END:VEVENT
END:VCALENDAR
