BEGIN:VCALENDAR
VERSION:2.0
PRODID:-//Sabre//Sabre VObject 4.5.8//EN
CALSCALE:GREGORIAN
BEGIN:VEVENT
UID:sabre-vobject-e3b06af0-37e6-4c32-aa42-d1b62f69b29b
DTSTAMP:20260422T152650Z
SUMMARY:Wochenmarkt
DESCRIPTION:https://rain.de/wochenmarkt_id3739
DTSTART;TZID=Europe/Berlin:20221125T070000
DTEND;TZID=Europe/Berlin:20221125T130000
LOCATION:Tilly-Denkmal\, Hauptstraße 50\, 86641 Rain
END:VEVENT
END:VCALENDAR
