BEGIN:VCALENDAR
VERSION:2.0
PRODID:-//Sabre//Sabre VObject 4.5.8//EN
CALSCALE:GREGORIAN
BEGIN:VEVENT
UID:sabre-vobject-63b3c12b-a5a3-406e-8478-0d3eae707f60
DTSTAMP:20260422T083348Z
SUMMARY:Martinimarkt
DESCRIPTION:https://rain.de/martinimarkt_id27399
DTSTART;TZID=Europe/Berlin:20241110T100000
DTEND;TZID=Europe/Berlin:20241110T180000
LOCATION:Innenstadt Rain\, Hauptstraße\, 86641 Rain
END:VEVENT
END:VCALENDAR
