BEGIN:VCALENDAR
VERSION:2.0
PRODID:-//Sabre//Sabre VObject 4.5.8//EN
CALSCALE:GREGORIAN
BEGIN:VEVENT
UID:sabre-vobject-bb1d5616-d79a-4db5-9a7a-9b83973a933d
DTSTAMP:20260421T215011Z
SUMMARY:Maimarkt
DESCRIPTION:https://rain.de/maimarkt_id27396
DTSTART;TZID=Europe/Berlin:20250427T090000
DTEND;TZID=Europe/Berlin:20250427T180000
LOCATION:Innenstadt Rain\, Hauptstraße\, 86641 Rain
END:VEVENT
END:VCALENDAR
