BEGIN:VCALENDAR
VERSION:2.0
PRODID:-//Sabre//Sabre VObject 4.5.8//EN
CALSCALE:GREGORIAN
BEGIN:VEVENT
UID:sabre-vobject-438ae689-219c-4690-9ea7-7c85558bc3af
DTSTAMP:20260422T135516Z
SUMMARY:Stadtratssitzung
DESCRIPTION:https://rain.de/stadtratssitzung_id22870
DTSTART;TZID=Europe/Berlin:20230912T190000
DTEND;TZID=Europe/Berlin:20230912T210000
LOCATION:Rathaus Rain\, Hauptstraße 60\, 86641 Rain
END:VEVENT
END:VCALENDAR
