BEGIN:VCALENDAR
VERSION:2.0
PRODID:-//Sabre//Sabre VObject 4.5.8//EN
CALSCALE:GREGORIAN
BEGIN:VEVENT
UID:sabre-vobject-1716fa31-56aa-4033-8ba9-fb57577a9b80
DTSTAMP:20260422T120607Z
SUMMARY:Neujahrsböllern am Schlossweiher
DESCRIPTION:https://rain.de/neujahrsboellern-am-schlossweiher_id14186
DTSTART;TZID=Europe/Berlin:20240101T163000
DTEND;TZID=Europe/Berlin:20240101T173000
LOCATION:Schlossweiher\, Schlossstraße 16\, 86641 Rain
END:VEVENT
END:VCALENDAR
